BEGIN:VCALENDAR
VERSION:2.0
PRODID:-//ArtsEmerson - ECPv6.15.18//NONSGML v1.0//EN
CALSCALE:GREGORIAN
METHOD:PUBLISH
X-WR-CALNAME:ArtsEmerson
X-ORIGINAL-URL:https://artsemerson.org
X-WR-CALDESC:Events for ArtsEmerson
REFRESH-INTERVAL;VALUE=DURATION:PT1H
X-Robots-Tag:noindex
X-PUBLISHED-TTL:PT1H
BEGIN:VTIMEZONE
TZID:America/New_York
BEGIN:DAYLIGHT
TZOFFSETFROM:-0500
TZOFFSETTO:-0400
TZNAME:EDT
DTSTART:20220313T070000
END:DAYLIGHT
BEGIN:STANDARD
TZOFFSETFROM:-0400
TZOFFSETTO:-0500
TZNAME:EST
DTSTART:20221106T060000
END:STANDARD
BEGIN:DAYLIGHT
TZOFFSETFROM:-0500
TZOFFSETTO:-0400
TZNAME:EDT
DTSTART:20230312T070000
END:DAYLIGHT
BEGIN:STANDARD
TZOFFSETFROM:-0400
TZOFFSETTO:-0500
TZNAME:EST
DTSTART:20231105T060000
END:STANDARD
BEGIN:DAYLIGHT
TZOFFSETFROM:-0500
TZOFFSETTO:-0400
TZNAME:EDT
DTSTART:20240310T070000
END:DAYLIGHT
BEGIN:STANDARD
TZOFFSETFROM:-0400
TZOFFSETTO:-0500
TZNAME:EST
DTSTART:20241103T060000
END:STANDARD
END:VTIMEZONE
BEGIN:VEVENT
DTSTART;TZID=America/New_York:20230628T100000
DTEND;TZID=America/New_York:20230702T235900
DTSTAMP:20260425T115918
CREATED:20230630T190033Z
LAST-MODIFIED:20230630T190036Z
UID:10000333-1687946400-1688342340@artsemerson.org
SUMMARY:Fighting For Rights
DESCRIPTION:
URL:https://artsemerson.org/event/fighting-for-rights/
LOCATION:MA
END:VEVENT
BEGIN:VEVENT
DTSTART;TZID=America/New_York:20230628T100000
DTEND;TZID=America/New_York:20230702T235900
DTSTAMP:20260425T115918
CREATED:20230630T190033Z
LAST-MODIFIED:20230630T190033Z
UID:10000334-1687946400-1688342340@artsemerson.org
SUMMARY:Music & Musicians
DESCRIPTION:
URL:https://artsemerson.org/event/music-musicians/
LOCATION:MA
END:VEVENT
BEGIN:VEVENT
DTSTART;TZID=America/New_York:20230628T100000
DTEND;TZID=America/New_York:20230702T235900
DTSTAMP:20260425T115918
CREATED:20230630T190033Z
LAST-MODIFIED:20230630T190035Z
UID:10000335-1687946400-1688342340@artsemerson.org
SUMMARY:Unsung Heroes
DESCRIPTION:
URL:https://artsemerson.org/event/unsung-heroes/
LOCATION:MA
END:VEVENT
BEGIN:VEVENT
DTSTART;TZID=America/New_York:20230628T100000
DTEND;TZID=America/New_York:20230702T235900
DTSTAMP:20260425T115918
CREATED:20230630T190033Z
LAST-MODIFIED:20230630T190036Z
UID:10000329-1687946400-1688342340@artsemerson.org
SUMMARY:The HoneyMoon
DESCRIPTION:
URL:https://artsemerson.org/event/the-honeymoon/
LOCATION:MA
END:VEVENT
BEGIN:VEVENT
DTSTART;TZID=America/New_York:20230628T100000
DTEND;TZID=America/New_York:20230702T235900
DTSTAMP:20260425T115918
CREATED:20230630T190033Z
LAST-MODIFIED:20230630T190033Z
UID:10000330-1687946400-1688342340@artsemerson.org
SUMMARY:Artists in their Own Words
DESCRIPTION:
URL:https://artsemerson.org/event/artists-in-their-own-words/
LOCATION:MA
END:VEVENT
BEGIN:VEVENT
DTSTART;TZID=America/New_York:20230628T100000
DTEND;TZID=America/New_York:20230702T235900
DTSTAMP:20260425T115918
CREATED:20230630T190033Z
LAST-MODIFIED:20230630T190037Z
UID:10000331-1687946400-1688342340@artsemerson.org
SUMMARY:Resilience and Family
DESCRIPTION:
URL:https://artsemerson.org/event/resilience-and-family/
LOCATION:MA
END:VEVENT
BEGIN:VEVENT
DTSTART;TZID=America/New_York:20230628T100000
DTEND;TZID=America/New_York:20230702T235900
DTSTAMP:20260425T115918
CREATED:20230630T190033Z
LAST-MODIFIED:20230630T190034Z
UID:10000332-1687946400-1688342340@artsemerson.org
SUMMARY:Our Land
DESCRIPTION:
URL:https://artsemerson.org/event/our-land/
LOCATION:MA
END:VEVENT
END:VCALENDAR