BEGIN:VCALENDAR
VERSION:2.0
PRODID:-//ArtsEmerson - ECPv6.15.18//NONSGML v1.0//EN
CALSCALE:GREGORIAN
METHOD:PUBLISH
X-WR-CALNAME:ArtsEmerson
X-ORIGINAL-URL:https://artsemerson.org
X-WR-CALDESC:Events for ArtsEmerson
REFRESH-INTERVAL;VALUE=DURATION:PT1H
X-Robots-Tag:noindex
X-PUBLISHED-TTL:PT1H
BEGIN:VTIMEZONE
TZID:America/New_York
BEGIN:DAYLIGHT
TZOFFSETFROM:-0500
TZOFFSETTO:-0400
TZNAME:EDT
DTSTART:20220313T070000
END:DAYLIGHT
BEGIN:STANDARD
TZOFFSETFROM:-0400
TZOFFSETTO:-0500
TZNAME:EST
DTSTART:20221106T060000
END:STANDARD
BEGIN:DAYLIGHT
TZOFFSETFROM:-0500
TZOFFSETTO:-0400
TZNAME:EDT
DTSTART:20230312T070000
END:DAYLIGHT
BEGIN:STANDARD
TZOFFSETFROM:-0400
TZOFFSETTO:-0500
TZNAME:EST
DTSTART:20231105T060000
END:STANDARD
BEGIN:DAYLIGHT
TZOFFSETFROM:-0500
TZOFFSETTO:-0400
TZNAME:EDT
DTSTART:20240310T070000
END:DAYLIGHT
BEGIN:STANDARD
TZOFFSETFROM:-0400
TZOFFSETTO:-0500
TZNAME:EST
DTSTART:20241103T060000
END:STANDARD
END:VTIMEZONE
BEGIN:VEVENT
DTSTART;TZID=America/New_York:20230916T133000
DTEND;TZID=America/New_York:20231007T133000
DTSTAMP:20260425T170813
CREATED:20230921T190035Z
LAST-MODIFIED:20230921T190035Z
UID:10000340-1694871000-1696685400@artsemerson.org
SUMMARY:Play Reading Book Club for We Are The Land: Roxbury Library (Sep 16 -Oct 7\, 2023)
DESCRIPTION:
URL:https://artsemerson.org/event/play-reading-book-club-for-we-are-the-land-roxbury-library-sep-16-oct-7-2023/
LOCATION:MA
END:VEVENT
BEGIN:VEVENT
DTSTART;TZID=America/New_York:20230919T180000
DTEND;TZID=America/New_York:20231003T180000
DTSTAMP:20260425T170813
CREATED:20230922T190049Z
LAST-MODIFIED:20230922T190049Z
UID:10000341-1695146400-1696356000@artsemerson.org
SUMMARY:Play Reading Book Club for We Are The Land: ArtsEmerson Online (Sep 19-Oct 3\, 2023)
DESCRIPTION:
URL:https://artsemerson.org/event/play-reading-book-club-for-we-are-the-land-artsemerson-online-sep-19-oct-3-2023/
LOCATION:MA
END:VEVENT
BEGIN:VEVENT
DTSTART;TZID=America/New_York:20230920T173000
DTEND;TZID=America/New_York:20231004T173000
DTSTAMP:20260425T170813
CREATED:20230925T190050Z
LAST-MODIFIED:20230925T190050Z
UID:10000342-1695231000-1696440600@artsemerson.org
SUMMARY:Play Reading Book Club for We Are The Land: BCYF/Jackson Mann (Sep 20-Oct 04\, 2023)
DESCRIPTION:
URL:https://artsemerson.org/event/play-reading-book-club-for-we-are-the-land-bcyf-jackson-mann-sep-20-oct-04-2023/
LOCATION:MA
END:VEVENT
BEGIN:VEVENT
DTSTART;TZID=America/New_York:20231001T120000
DTEND;TZID=America/New_York:20231001T140000
DTSTAMP:20260425T170813
CREATED:20230929T190029Z
LAST-MODIFIED:20230929T190035Z
UID:10000350-1696161600-1696168800@artsemerson.org
SUMMARY:Hasta Que Se Apague El Sol (Until the Sun Dies)
DESCRIPTION:
URL:https://artsemerson.org/event/hasta-que-se-apague-el-sol-until-the-sun-dies/
LOCATION:MA
END:VEVENT
BEGIN:VEVENT
DTSTART;TZID=America/New_York:20231001T143000
DTEND;TZID=America/New_York:20231001T163000
DTSTAMP:20260425T170813
CREATED:20230929T190029Z
LAST-MODIFIED:20230929T190036Z
UID:10000348-1696170600-1696177800@artsemerson.org
SUMMARY:Shorts Program 2: Una memoria de los sentidos
DESCRIPTION:
URL:https://artsemerson.org/event/shorts-program-2-una-memoria-de-los-sentidos/
LOCATION:MA
END:VEVENT
BEGIN:VEVENT
DTSTART;TZID=America/New_York:20231001T173000
DTEND;TZID=America/New_York:20231001T193000
DTSTAMP:20260425T170813
CREATED:20230929T190029Z
LAST-MODIFIED:20230929T190037Z
UID:10000346-1696181400-1696188600@artsemerson.org
SUMMARY:Unseen
DESCRIPTION:
URL:https://artsemerson.org/event/unseen/
LOCATION:MA
END:VEVENT
BEGIN:VEVENT
DTSTART;TZID=America/New_York:20231013T180000
DTEND;TZID=America/New_York:20231013T200000
DTSTAMP:20260425T170813
CREATED:20231013T160140Z
LAST-MODIFIED:20231023T161416Z
UID:10000267-1697220000-1697227200@artsemerson.org
SUMMARY:Nurse Unseen
DESCRIPTION:
URL:https://artsemerson.org/event/nurse-unseen/
LOCATION:MA
END:VEVENT
BEGIN:VEVENT
DTSTART;TZID=America/New_York:20231013T193000
DTEND;TZID=America/New_York:20231023T120000
DTSTAMP:20260425T170813
CREATED:20231013T160140Z
LAST-MODIFIED:20231013T160141Z
UID:10000268-1697225400-1698062400@artsemerson.org
SUMMARY:Grave Affairs Shorts
DESCRIPTION:
URL:https://artsemerson.org/event/grave-affairs-shorts/
LOCATION:MA
END:VEVENT
BEGIN:VEVENT
DTSTART;TZID=America/New_York:20231013T193000
DTEND;TZID=America/New_York:20231023T120000
DTSTAMP:20260425T170813
CREATED:20231013T160140Z
LAST-MODIFIED:20231013T160144Z
UID:10000355-1697225400-1698062400@artsemerson.org
SUMMARY:Lights Out Shorts
DESCRIPTION:
URL:https://artsemerson.org/event/lights-out-shorts/
LOCATION:MA
END:VEVENT
BEGIN:VEVENT
DTSTART;TZID=America/New_York:20231013T193000
DTEND;TZID=America/New_York:20231023T120000
DTSTAMP:20260425T170813
CREATED:20231013T160140Z
LAST-MODIFIED:20231013T160142Z
UID:10000269-1697225400-1698062400@artsemerson.org
SUMMARY:Laugh with BAAFF! Shorts
DESCRIPTION:
URL:https://artsemerson.org/event/laugh-with-baaff-shorts/
LOCATION:MA
END:VEVENT
BEGIN:VEVENT
DTSTART;TZID=America/New_York:20231013T193000
DTEND;TZID=America/New_York:20231023T120000
DTSTAMP:20260425T170813
CREATED:20231013T160140Z
LAST-MODIFIED:20231013T160145Z
UID:10000356-1697225400-1698062400@artsemerson.org
SUMMARY:Queer & Here Shorts
DESCRIPTION:
URL:https://artsemerson.org/event/queer-here-shorts/
LOCATION:MA
END:VEVENT
BEGIN:VEVENT
DTSTART;TZID=America/New_York:20231013T193000
DTEND;TZID=America/New_York:20231023T120000
DTSTAMP:20260425T170813
CREATED:20231013T160140Z
LAST-MODIFIED:20231013T160143Z
UID:10000270-1697225400-1698062400@artsemerson.org
SUMMARY:Serving Family Style Shorts
DESCRIPTION:
URL:https://artsemerson.org/event/serving-family-style-shorts/
LOCATION:MA
END:VEVENT
BEGIN:VEVENT
DTSTART;TZID=America/New_York:20231013T193000
DTEND;TZID=America/New_York:20231023T120000
DTSTAMP:20260425T170813
CREATED:20231013T160140Z
LAST-MODIFIED:20231013T160143Z
UID:10000271-1697225400-1698062400@artsemerson.org
SUMMARY:Golden Girls Shorts
DESCRIPTION:
URL:https://artsemerson.org/event/golden-girls-shorts/
LOCATION:MA
END:VEVENT
BEGIN:VEVENT
DTSTART;TZID=America/New_York:20231013T210000
DTEND;TZID=America/New_York:20231013T230000
DTSTAMP:20260425T170813
CREATED:20231013T160140Z
LAST-MODIFIED:20231013T160146Z
UID:10000357-1697230800-1697238000@artsemerson.org
SUMMARY:Queer & Here Shorts
DESCRIPTION:
URL:https://artsemerson.org/event/queer-here-shorts-2/
LOCATION:MA
END:VEVENT
BEGIN:VEVENT
DTSTART;TZID=America/New_York:20231014T133000
DTEND;TZID=America/New_York:20231014T153000
DTSTAMP:20260425T170813
CREATED:20231013T160140Z
LAST-MODIFIED:20231013T160147Z
UID:10000358-1697290200-1697297400@artsemerson.org
SUMMARY:Photographic Justice: The Corky Lee Story
DESCRIPTION:
URL:https://artsemerson.org/event/photographic-justice-the-corky-lee-story/
LOCATION:MA
END:VEVENT
BEGIN:VEVENT
DTSTART;TZID=America/New_York:20231014T163000
DTEND;TZID=America/New_York:20231014T183000
DTSTAMP:20260425T170813
CREATED:20231013T160140Z
LAST-MODIFIED:20231013T160147Z
UID:10000359-1697301000-1697308200@artsemerson.org
SUMMARY:Accidental Getaway Driver
DESCRIPTION:
URL:https://artsemerson.org/event/accidental-getaway-driver/
LOCATION:MA
END:VEVENT
BEGIN:VEVENT
DTSTART;TZID=America/New_York:20231014T203000
DTEND;TZID=America/New_York:20231014T223000
DTSTAMP:20260425T170813
CREATED:20231013T160140Z
LAST-MODIFIED:20231013T160148Z
UID:10000360-1697315400-1697322600@artsemerson.org
SUMMARY:Laugh with BAAFF! Shorts
DESCRIPTION:
URL:https://artsemerson.org/event/laugh-with-baaff-shorts-2/
LOCATION:MA
END:VEVENT
BEGIN:VEVENT
DTSTART;TZID=America/New_York:20231015T130000
DTEND;TZID=America/New_York:20231015T150000
DTSTAMP:20260425T170813
CREATED:20231013T160140Z
LAST-MODIFIED:20231013T160149Z
UID:10000361-1697374800-1697382000@artsemerson.org
SUMMARY:Finding Her Beat (preceded by Gund Kwok)
DESCRIPTION:
URL:https://artsemerson.org/event/finding-her-beat-preceded-by-gund-kwok/
LOCATION:MA
END:VEVENT
BEGIN:VEVENT
DTSTART;TZID=America/New_York:20231015T160000
DTEND;TZID=America/New_York:20231015T180000
DTSTAMP:20260425T170813
CREATED:20231013T160140Z
LAST-MODIFIED:20231013T160150Z
UID:10000362-1697385600-1697392800@artsemerson.org
SUMMARY:B-Side: For Taylor
DESCRIPTION:
URL:https://artsemerson.org/event/b-side-for-taylor/
LOCATION:MA
END:VEVENT
BEGIN:VEVENT
DTSTART;TZID=America/New_York:20231015T190000
DTEND;TZID=America/New_York:20231015T210000
DTSTAMP:20260425T170813
CREATED:20231013T160140Z
LAST-MODIFIED:20231013T160150Z
UID:10000363-1697396400-1697403600@artsemerson.org
SUMMARY:Starring Jerry as Himself (preceded by Closing Dynasty)
DESCRIPTION:
URL:https://artsemerson.org/event/starring-jerry-as-himself-preceded-by-closing-dynasty/
LOCATION:MA
END:VEVENT
BEGIN:VEVENT
DTSTART;TZID=America/New_York:20231018T193000
DTEND;TZID=America/New_York:20231018T213000
DTSTAMP:20260425T170813
CREATED:20231013T160140Z
LAST-MODIFIED:20231013T160151Z
UID:10000344-1697657400-1697664600@artsemerson.org
SUMMARY:The Book of Life
DESCRIPTION:
URL:https://artsemerson.org/event/the-book-of-life/
LOCATION:MA
END:VEVENT
BEGIN:VEVENT
DTSTART;TZID=America/New_York:20231019T193000
DTEND;TZID=America/New_York:20231019T213000
DTSTAMP:20260425T170813
CREATED:20231013T160140Z
LAST-MODIFIED:20231013T160152Z
UID:10000262-1697743800-1697751000@artsemerson.org
SUMMARY:The Book of Life
DESCRIPTION:
URL:https://artsemerson.org/event/the-book-of-life-2/
LOCATION:MA
END:VEVENT
BEGIN:VEVENT
DTSTART;TZID=America/New_York:20231020T200000
DTEND;TZID=America/New_York:20231020T220000
DTSTAMP:20260425T170813
CREATED:20231013T160140Z
LAST-MODIFIED:20231013T160153Z
UID:10000263-1697832000-1697839200@artsemerson.org
SUMMARY:The Book of Life
DESCRIPTION:
URL:https://artsemerson.org/event/the-book-of-life-3/
LOCATION:MA
END:VEVENT
BEGIN:VEVENT
DTSTART;TZID=America/New_York:20231021T140000
DTEND;TZID=America/New_York:20231021T160000
DTSTAMP:20260425T170813
CREATED:20231013T160140Z
LAST-MODIFIED:20231013T160153Z
UID:10000264-1697896800-1697904000@artsemerson.org
SUMMARY:The Book of Life
DESCRIPTION:
URL:https://artsemerson.org/event/the-book-of-life-4/
LOCATION:MA
END:VEVENT
BEGIN:VEVENT
DTSTART;TZID=America/New_York:20231021T200000
DTEND;TZID=America/New_York:20231021T220000
DTSTAMP:20260425T170813
CREATED:20231013T160140Z
LAST-MODIFIED:20231013T160154Z
UID:10000265-1697918400-1697925600@artsemerson.org
SUMMARY:The Book of Life
DESCRIPTION:
URL:https://artsemerson.org/event/the-book-of-life-5/
LOCATION:MA
END:VEVENT
BEGIN:VEVENT
DTSTART;TZID=America/New_York:20231022T140000
DTEND;TZID=America/New_York:20231022T160000
DTSTAMP:20260425T170813
CREATED:20231013T160140Z
LAST-MODIFIED:20231013T160155Z
UID:10000266-1697983200-1697990400@artsemerson.org
SUMMARY:The Book of Life
DESCRIPTION:
URL:https://artsemerson.org/event/the-book-of-life-6/
LOCATION:MA
END:VEVENT
BEGIN:VEVENT
DTSTART;TZID=America/New_York:20231022T140000
DTEND;TZID=America/New_York:20231022T160000
DTSTAMP:20260425T170813
CREATED:20231013T160156Z
LAST-MODIFIED:20231013T160156Z
UID:10000364-1697983200-1697990400@artsemerson.org
SUMMARY:Expats/Conversation with Lulu Wang
DESCRIPTION:
URL:https://artsemerson.org/event/expats-conversation-with-lulu-wang/
LOCATION:MA
END:VEVENT
BEGIN:VEVENT
DTSTART;TZID=America/New_York:20231022T170000
DTEND;TZID=America/New_York:20231022T190000
DTSTAMP:20260425T170813
CREATED:20231013T160156Z
LAST-MODIFIED:20231013T160157Z
UID:10000272-1697994000-1698001200@artsemerson.org
SUMMARY:Expats/Conversation with Lulu Wang
DESCRIPTION:
URL:https://artsemerson.org/event/expats-conversation-with-lulu-wang-2/
LOCATION:MA
END:VEVENT
BEGIN:VEVENT
DTSTART;TZID=America/New_York:20231024T180000
DTEND;TZID=America/New_York:20231114T180000
DTSTAMP:20260425T170813
CREATED:20231027T190021Z
LAST-MODIFIED:20231027T190021Z
UID:10000273-1698170400-1699984800@artsemerson.org
SUMMARY:Play Reading Book Club for The Real James Bond: ArtsEmerson Online (Oct 24-Nov 14\, 2023)
DESCRIPTION:
URL:https://artsemerson.org/event/play-reading-book-club-for-the-real-james-bond-artsemerson-online-oct-24-nov-14-2023/
LOCATION:MA
END:VEVENT
BEGIN:VEVENT
DTSTART;TZID=America/New_York:20231025T173000
DTEND;TZID=America/New_York:20231115T173000
DTSTAMP:20260425T170813
CREATED:20231030T190039Z
LAST-MODIFIED:20231030T190039Z
UID:10000274-1698255000-1700069400@artsemerson.org
SUMMARY:Play Reading Book Club for The Real James Bond: BCYF/Jackson Mann (Oct 25-Nov 15\, 2023)
DESCRIPTION:
URL:https://artsemerson.org/event/play-reading-book-club-for-the-real-james-bond-bcyf-jackson-mann-oct-25-nov-15-2023/
LOCATION:MA
END:VEVENT
END:VCALENDAR