BEGIN:VCALENDAR
VERSION:2.0
PRODID:-//ArtsEmerson - ECPv6.15.18//NONSGML v1.0//EN
CALSCALE:GREGORIAN
METHOD:PUBLISH
X-ORIGINAL-URL:https://artsemerson.org
X-WR-CALDESC:Events for ArtsEmerson
REFRESH-INTERVAL;VALUE=DURATION:PT1H
X-Robots-Tag:noindex
X-PUBLISHED-TTL:PT1H
BEGIN:VTIMEZONE
TZID:America/New_York
BEGIN:DAYLIGHT
TZOFFSETFROM:-0500
TZOFFSETTO:-0400
TZNAME:EDT
DTSTART:20220313T070000
END:DAYLIGHT
BEGIN:STANDARD
TZOFFSETFROM:-0400
TZOFFSETTO:-0500
TZNAME:EST
DTSTART:20221106T060000
END:STANDARD
BEGIN:DAYLIGHT
TZOFFSETFROM:-0500
TZOFFSETTO:-0400
TZNAME:EDT
DTSTART:20230312T070000
END:DAYLIGHT
BEGIN:STANDARD
TZOFFSETFROM:-0400
TZOFFSETTO:-0500
TZNAME:EST
DTSTART:20231105T060000
END:STANDARD
BEGIN:DAYLIGHT
TZOFFSETFROM:-0500
TZOFFSETTO:-0400
TZNAME:EDT
DTSTART:20240310T070000
END:DAYLIGHT
BEGIN:STANDARD
TZOFFSETFROM:-0400
TZOFFSETTO:-0500
TZNAME:EST
DTSTART:20241103T060000
END:STANDARD
END:VTIMEZONE
BEGIN:VEVENT
DTSTART;TZID=America/New_York:20231024T180000
DTEND;TZID=America/New_York:20231114T180000
DTSTAMP:20260425T182625
CREATED:20231027T190021Z
LAST-MODIFIED:20231027T190021Z
UID:10000273-1698170400-1699984800@artsemerson.org
SUMMARY:Play Reading Book Club for The Real James Bond: ArtsEmerson Online (Oct 24-Nov 14\, 2023)
DESCRIPTION:
URL:https://artsemerson.org/event/play-reading-book-club-for-the-real-james-bond-artsemerson-online-oct-24-nov-14-2023/
LOCATION:MA
END:VEVENT
BEGIN:VEVENT
DTSTART;TZID=America/New_York:20231025T173000
DTEND;TZID=America/New_York:20231115T173000
DTSTAMP:20260425T182625
CREATED:20231030T190039Z
LAST-MODIFIED:20231030T190039Z
UID:10000274-1698255000-1700069400@artsemerson.org
SUMMARY:Play Reading Book Club for The Real James Bond: BCYF/Jackson Mann (Oct 25-Nov 15\, 2023)
DESCRIPTION:
URL:https://artsemerson.org/event/play-reading-book-club-for-the-real-james-bond-bcyf-jackson-mann-oct-25-nov-15-2023/
LOCATION:MA
END:VEVENT
BEGIN:VEVENT
DTSTART;TZID=America/New_York:20231025T173000
DTEND;TZID=America/New_York:20231115T173000
DTSTAMP:20260425T182625
CREATED:20231030T190039Z
LAST-MODIFIED:20231030T190040Z
UID:10000275-1698255000-1700069400@artsemerson.org
SUMMARY:Play Reading Book Club for The Real James Bond: Arlington Street Church (Oct 25-Nov 15\, 2023)
DESCRIPTION:
URL:https://artsemerson.org/event/play-reading-book-club-for-the-real-james-bond-arlington-street-church-oct-25-nov-15-2023/
LOCATION:MA
END:VEVENT
BEGIN:VEVENT
DTSTART;TZID=America/New_York:20231026T170000
DTEND;TZID=America/New_York:20231116T170000
DTSTAMP:20260425T182625
CREATED:20231031T190049Z
LAST-MODIFIED:20231031T190049Z
UID:10000276-1698339600-1700154000@artsemerson.org
SUMMARY:Play Reading Book Club for The Real James Bond: East Boston Branch Library (Oct 26-Nov 16\, 2023)
DESCRIPTION:
URL:https://artsemerson.org/event/play-reading-book-club-for-the-real-james-bond-east-boston-branch-library-oct-26-nov-16-2023/
LOCATION:MA
END:VEVENT
BEGIN:VEVENT
DTSTART;TZID=America/New_York:20231028T133000
DTEND;TZID=America/New_York:20231118T133000
DTSTAMP:20260425T182625
CREATED:20231102T210218Z
LAST-MODIFIED:20231102T210218Z
UID:10000374-1698499800-1700314200@artsemerson.org
SUMMARY:Play Reading Book Club for The Real James Bond: Roxbury Library (Oct 28-Nov 18\, 2023)
DESCRIPTION:
URL:https://artsemerson.org/event/play-reading-book-club-for-the-real-james-bond-roxbury-library-oct-28-nov-18-2023/
LOCATION:MA
END:VEVENT
BEGIN:VEVENT
DTSTART;TZID=America/New_York:20231108T193000
DTEND;TZID=America/New_York:20231108T213000
DTSTAMP:20260425T182625
CREATED:20231103T193022Z
LAST-MODIFIED:20231108T190044Z
UID:10000277-1699471800-1699479000@artsemerson.org
SUMMARY:The Real James Bond...was Dominican
DESCRIPTION:
URL:https://artsemerson.org/event/the-real-james-bond-was-dominican/
LOCATION:MA
END:VEVENT
BEGIN:VEVENT
DTSTART;TZID=America/New_York:20231109T193000
DTEND;TZID=America/New_York:20231109T213000
DTSTAMP:20260425T182625
CREATED:20231103T193023Z
LAST-MODIFIED:20231109T190028Z
UID:10000278-1699558200-1699565400@artsemerson.org
SUMMARY:The Real James Bond...was Dominican
DESCRIPTION:
URL:https://artsemerson.org/event/the-real-james-bond-was-dominican-2/
LOCATION:MA
END:VEVENT
BEGIN:VEVENT
DTSTART;TZID=America/New_York:20231110T200000
DTEND;TZID=America/New_York:20231110T220000
DTSTAMP:20260425T182625
CREATED:20231103T193025Z
LAST-MODIFIED:20231110T190024Z
UID:10000279-1699646400-1699653600@artsemerson.org
SUMMARY:The Real James Bond...was Dominican
DESCRIPTION:
URL:https://artsemerson.org/event/the-real-james-bond-was-dominican-3/
LOCATION:MA
END:VEVENT
BEGIN:VEVENT
DTSTART;TZID=America/New_York:20231111T140000
DTEND;TZID=America/New_York:20231111T160000
DTSTAMP:20260425T182625
CREATED:20231103T193027Z
LAST-MODIFIED:20231110T190025Z
UID:10000280-1699711200-1699718400@artsemerson.org
SUMMARY:The Real James Bond...was Dominican
DESCRIPTION:
URL:https://artsemerson.org/event/the-real-james-bond-was-dominican-4/
LOCATION:MA
END:VEVENT
BEGIN:VEVENT
DTSTART;TZID=America/New_York:20231111T200000
DTEND;TZID=America/New_York:20231111T220000
DTSTAMP:20260425T182625
CREATED:20231103T193029Z
LAST-MODIFIED:20231110T190026Z
UID:10000281-1699732800-1699740000@artsemerson.org
SUMMARY:The Real James Bond...was Dominican
DESCRIPTION:
URL:https://artsemerson.org/event/the-real-james-bond-was-dominican-5/
LOCATION:MA
END:VEVENT
BEGIN:VEVENT
DTSTART;TZID=America/New_York:20231112T140000
DTEND;TZID=America/New_York:20231112T160000
DTSTAMP:20260425T182625
CREATED:20231103T193031Z
LAST-MODIFIED:20231110T190027Z
UID:10000365-1699797600-1699804800@artsemerson.org
SUMMARY:The Real James Bond...was Dominican
DESCRIPTION:
URL:https://artsemerson.org/event/the-real-james-bond-was-dominican-6/
LOCATION:MA
END:VEVENT
BEGIN:VEVENT
DTSTART;TZID=America/New_York:20231115T190000
DTEND;TZID=America/New_York:20231115T210000
DTSTAMP:20260425T182625
CREATED:20231115T200043Z
LAST-MODIFIED:20231115T200044Z
UID:10000286-1700074800-1700082000@artsemerson.org
SUMMARY:After The Curtain Call: Speaking Your Own Story
DESCRIPTION:
URL:https://artsemerson.org/event/after-the-curtain-call-speaking-your-own-story/
LOCATION:MA
END:VEVENT
END:VCALENDAR